Package: TargetDecoy Version: 1.15.0 Command: /home/biocbuild/R/R/bin/R CMD build --keep-empty-dirs --no-resave-data TargetDecoy StartedAt: 2025-10-17 05:07:57 -0000 (Fri, 17 Oct 2025) EndedAt: 2025-10-17 05:08:54 -0000 (Fri, 17 Oct 2025) EllapsedTime: 57.0 seconds RetCode: 0 Status: OK PackageFile: TargetDecoy_1.15.0.tar.gz PackageFileSize: 3.732 MiB