Package: TVTB Version: 1.35.2 Command: /home/biocbuild/bbs-3.22-bioc/R/bin/R CMD check --install=check:TVTB.install-out.txt --library=/home/biocbuild/bbs-3.22-bioc/R/site-library --timings TVTB_1.35.2.tar.gz StartedAt: 2025-10-25 05:12:21 -0400 (Sat, 25 Oct 2025) EndedAt: 2025-10-25 05:20:04 -0400 (Sat, 25 Oct 2025) EllapsedTime: 462.4 seconds RetCode: 0 Status: OK CheckDir: TVTB.Rcheck Warnings: 0