Package: TVTB Version: 1.35.2 Command: /Library/Frameworks/R.framework/Resources/bin/R CMD build --keep-empty-dirs --no-resave-data TVTB StartedAt: 2025-10-24 18:03:18 -0400 (Fri, 24 Oct 2025) EndedAt: 2025-10-24 18:04:01 -0400 (Fri, 24 Oct 2025) EllapsedTime: 42.5 seconds RetCode: 0 Status: OK PackageFile: TVTB_1.35.2.tar.gz PackageFileSize: 1.45 MiB