Package: TVTB Version: 1.35.2 Maintainer: Kevin Rue-Albrecht MaintainerEmail: kevinrue67 at gmail.com git_url: https://git.bioconductor.org/packages/TVTB git_branch: devel git_last_commit: 118cbb8 git_last_commit_date: 2025-08-06 04:05:50 -0400 (Wed, 06 Aug 2025)