Package: TTMap Version: 1.31.0 Command: /home/biocbuild/R/R/bin/R CMD INSTALL TTMap StartedAt: 2025-10-16 21:36:00 -0000 (Thu, 16 Oct 2025) EndedAt: 2025-10-16 21:36:31 -0000 (Thu, 16 Oct 2025) EllapsedTime: 31.1 seconds RetCode: 0 Status: OK