Package: TTMap Version: 1.31.0 Command: /home/biocbuild/R/R/bin/R CMD check --install=check:TTMap.install-out.txt --library=/home/biocbuild/R/R/site-library --no-vignettes --timings TTMap_1.31.0.tar.gz StartedAt: 2025-10-17 14:45:30 -0000 (Fri, 17 Oct 2025) EndedAt: 2025-10-17 14:50:06 -0000 (Fri, 17 Oct 2025) EllapsedTime: 275.5 seconds RetCode: 0 Status: OK CheckDir: TTMap.Rcheck Warnings: 0