Package: TTMap Version: 1.31.0 Command: /home/biocbuild/R/R/bin/R CMD build --keep-empty-dirs --no-resave-data TTMap StartedAt: 2025-10-21 03:53:45 -0000 (Tue, 21 Oct 2025) EndedAt: 2025-10-21 03:54:48 -0000 (Tue, 21 Oct 2025) EllapsedTime: 63.0 seconds RetCode: 0 Status: OK PackageFile: TTMap_1.31.0.tar.gz PackageFileSize: 1.6 MiB