Package: TTMap Version: 1.31.0 Command: /home/biocbuild/bbs-3.22-bioc/R/bin/R CMD INSTALL TTMap StartedAt: 2025-10-20 15:21:49 -0400 (Mon, 20 Oct 2025) EndedAt: 2025-10-20 15:22:12 -0400 (Mon, 20 Oct 2025) EllapsedTime: 23.1 seconds RetCode: 0 Status: OK