Package: TTMap Version: 1.31.0 Command: /home/biocbuild/bbs-3.22-bioc/R/bin/R CMD build --keep-empty-dirs --no-resave-data --md5 TTMap StartedAt: 2025-10-19 20:35:44 -0400 (Sun, 19 Oct 2025) EndedAt: 2025-10-19 20:36:30 -0400 (Sun, 19 Oct 2025) EllapsedTime: 46.0 seconds RetCode: 0 Status: OK PackageFile: TTMap_1.31.0.tar.gz PackageFileSize: 1.611 MiB