Package: TTMap Version: 1.31.0 Command: /Library/Frameworks/R.framework/Resources/bin/R CMD INSTALL TTMap StartedAt: 2025-10-20 15:24:19 -0400 (Mon, 20 Oct 2025) EndedAt: 2025-10-20 15:24:50 -0400 (Mon, 20 Oct 2025) EllapsedTime: 31.2 seconds RetCode: 0 Status: OK