Package: TTMap Version: 1.31.0 Command: /Library/Frameworks/R.framework/Resources/bin/R CMD build --keep-empty-dirs --no-resave-data TTMap StartedAt: 2025-10-21 18:04:06 -0400 (Tue, 21 Oct 2025) EndedAt: 2025-10-21 18:04:27 -0400 (Tue, 21 Oct 2025) EllapsedTime: 21.3 seconds RetCode: 0 Status: OK PackageFile: TTMap_1.31.0.tar.gz PackageFileSize: 1.61 MiB