Package: TSAR Version: 1.7.0 Command: /home/biocbuild/R/R/bin/R CMD INSTALL TSAR StartedAt: 2025-10-16 21:19:40 -0000 (Thu, 16 Oct 2025) EndedAt: 2025-10-16 21:20:09 -0000 (Thu, 16 Oct 2025) EllapsedTime: 29.2 seconds RetCode: 0 Status: OK