Package: TSAR Version: 1.7.0 Command: /home/biocbuild/R/R/bin/R CMD build --keep-empty-dirs --no-resave-data TSAR StartedAt: 2025-10-17 05:22:51 -0000 (Fri, 17 Oct 2025) EndedAt: 2025-10-17 05:26:00 -0000 (Fri, 17 Oct 2025) EllapsedTime: 188.1 seconds RetCode: 0 Status: OK PackageFile: TSAR_1.7.0.tar.gz PackageFileSize: 3.64 MiB