Package: TSAR Version: 1.7.0 Command: F:\biocbuild\bbs-3.22-bioc\R\bin\R.exe CMD INSTALL TSAR StartedAt: 2025-08-14 15:29:48 -0400 (Thu, 14 Aug 2025) EndedAt: 2025-08-14 15:30:24 -0400 (Thu, 14 Aug 2025) EllapsedTime: 35.5 seconds RetCode: 0 Status: OK