Package: TSAR Version: 1.7.0 Command: chmod a+r TSAR -R && F:\biocbuild\bbs-3.22-bioc\R\bin\R.exe CMD build --keep-empty-dirs --no-resave-data TSAR StartedAt: 2025-08-14 23:52:43 -0400 (Thu, 14 Aug 2025) EndedAt: 2025-08-14 23:55:57 -0400 (Thu, 14 Aug 2025) EllapsedTime: 193.8 seconds RetCode: 0 Status: OK PackageFile: TSAR_1.7.0.tar.gz PackageFileSize: 3.549 MiB