Package: TSAR Version: 1.7.0 Command: rm -rf TSAR.buildbin-libdir && mkdir TSAR.buildbin-libdir && F:\biocbuild\bbs-3.22-bioc\R\bin\R.exe CMD INSTALL --build --library=TSAR.buildbin-libdir TSAR_1.7.0.tar.gz StartedAt: 2025-08-15 11:32:41 -0400 (Fri, 15 Aug 2025) EndedAt: 2025-08-15 11:33:44 -0400 (Fri, 15 Aug 2025) EllapsedTime: 62.6 seconds RetCode: 0 Status: OK PackageFile: TSAR_1.7.0.zip PackageFileSize: 3.486 MiB