Package: TSAR Version: 1.7.0 Command: /home/biocbuild/bbs-3.22-bioc/R/bin/R CMD INSTALL TSAR StartedAt: 2025-10-19 15:10:46 -0400 (Sun, 19 Oct 2025) EndedAt: 2025-10-19 15:11:04 -0400 (Sun, 19 Oct 2025) EllapsedTime: 18.1 seconds RetCode: 0 Status: OK