Package: TSAR Version: 1.7.0 Command: /home/biocbuild/bbs-3.22-bioc/R/bin/R CMD check --install=check:TSAR.install-out.txt --library=/home/biocbuild/bbs-3.22-bioc/R/site-library --timings TSAR_1.7.0.tar.gz StartedAt: 2025-10-20 05:57:35 -0400 (Mon, 20 Oct 2025) EndedAt: 2025-10-20 06:01:54 -0400 (Mon, 20 Oct 2025) EllapsedTime: 259.2 seconds RetCode: 0 Status: OK CheckDir: TSAR.Rcheck Warnings: 0