Package: TSAR Version: 1.7.0 Command: /Library/Frameworks/R.framework/Resources/bin/R CMD INSTALL TSAR StartedAt: 2025-10-19 15:13:18 -0400 (Sun, 19 Oct 2025) EndedAt: 2025-10-19 15:13:43 -0400 (Sun, 19 Oct 2025) EllapsedTime: 25.2 seconds RetCode: 0 Status: OK