Package: TSAR Version: 1.7.0 Command: rm -rf TSAR.buildbin-libdir && mkdir TSAR.buildbin-libdir && /Users/biocbuild/BBS/utils/build-universal.sh TSAR_1.7.0.tar.gz /Library/Frameworks/R.framework/Resources/bin/R TSAR.buildbin-libdir StartedAt: 2025-10-20 03:39:22 -0400 (Mon, 20 Oct 2025) EndedAt: 2025-10-20 03:39:43 -0400 (Mon, 20 Oct 2025) EllapsedTime: 20.7 seconds RetCode: 0 Status: OK PackageFile: TSAR_1.7.0.tgz PackageFileSize: 3.977 MiB