Package: TSAR Version: 1.7.0 Command: /Library/Frameworks/R.framework/Resources/bin/R CMD build --keep-empty-dirs --no-resave-data TSAR StartedAt: 2025-10-19 18:00:07 -0400 (Sun, 19 Oct 2025) EndedAt: 2025-10-19 18:00:51 -0400 (Sun, 19 Oct 2025) EllapsedTime: 44.5 seconds RetCode: 0 Status: OK PackageFile: TSAR_1.7.0.tar.gz PackageFileSize: 4.047 MiB