Package: TRONCO Version: 2.42.0 Command: /Library/Frameworks/R.framework/Resources/bin/R CMD check --install=check:TRONCO.install-out.txt --library=/Library/Frameworks/R.framework/Resources/library --no-vignettes --timings TRONCO_2.42.0.tar.gz StartedAt: 2025-10-31 00:43:21 -0400 (Fri, 31 Oct 2025) EndedAt: 2025-10-31 00:47:10 -0400 (Fri, 31 Oct 2025) EllapsedTime: 229.2 seconds RetCode: 0 Status: OK CheckDir: TRONCO.Rcheck Warnings: 0