Package: TRONCO Version: 2.41.1 Command: /Library/Frameworks/R.framework/Resources/bin/R CMD build --keep-empty-dirs --no-resave-data TRONCO StartedAt: 2025-10-27 19:02:19 -0400 (Mon, 27 Oct 2025) EndedAt: 2025-10-27 19:03:40 -0400 (Mon, 27 Oct 2025) EllapsedTime: 80.9 seconds RetCode: 0 Status: OK PackageFile: TRONCO_2.41.1.tar.gz PackageFileSize: 4.348 MiB