Package: TRONCO Version: 2.41.1 Command: rm -rf TRONCO.buildbin-libdir && mkdir TRONCO.buildbin-libdir && /Users/biocbuild/BBS/utils/build-universal.sh TRONCO_2.41.1.tar.gz /Library/Frameworks/R.framework/Resources/bin/R TRONCO.buildbin-libdir StartedAt: 2025-10-28 02:41:26 -0400 (Tue, 28 Oct 2025) EndedAt: 2025-10-28 02:41:47 -0400 (Tue, 28 Oct 2025) EllapsedTime: 20.8 seconds RetCode: 0 Status: OK PackageFile: TRONCO_2.41.1.tgz PackageFileSize: 4.847 MiB