Package: TPP Version: 3.37.0 Command: /home/biocbuild/R/R/bin/R CMD build --keep-empty-dirs --no-resave-data TPP StartedAt: 2025-10-21 03:47:45 -0000 (Tue, 21 Oct 2025) EndedAt: 2025-10-21 03:49:58 -0000 (Tue, 21 Oct 2025) EllapsedTime: 133.0 seconds RetCode: 0 Status: OK PackageFile: TPP_3.37.0.tar.gz PackageFileSize: 8.41 MiB