Package: TPP Version: 3.37.0 Command: /Library/Frameworks/R.framework/Resources/bin/R CMD INSTALL TPP StartedAt: 2025-10-19 15:16:50 -0400 (Sun, 19 Oct 2025) EndedAt: 2025-10-19 15:17:21 -0400 (Sun, 19 Oct 2025) EllapsedTime: 30.5 seconds RetCode: 0 Status: OK