Package: TOP Version: 1.9.0 Command: chmod a+r TOP -R && F:\biocbuild\bbs-3.22-bioc\R\bin\R.exe CMD build --keep-empty-dirs --no-resave-data TOP StartedAt: 2025-08-14 23:47:52 -0400 (Thu, 14 Aug 2025) EndedAt: 2025-08-14 23:49:34 -0400 (Thu, 14 Aug 2025) EllapsedTime: 101.8 seconds RetCode: 0 Status: OK PackageFile: TOP_1.9.0.tar.gz PackageFileSize: 342.8 KiB