Package: TOP Version: 1.9.0 Command: rm -rf TOP.buildbin-libdir && mkdir TOP.buildbin-libdir && F:\biocbuild\bbs-3.22-bioc\R\bin\R.exe CMD INSTALL --build --library=TOP.buildbin-libdir TOP_1.9.0.tar.gz StartedAt: 2025-08-15 11:30:54 -0400 (Fri, 15 Aug 2025) EndedAt: 2025-08-15 11:31:33 -0400 (Fri, 15 Aug 2025) EllapsedTime: 39.2 seconds RetCode: 0 Status: OK PackageFile: TOP_1.9.0.zip PackageFileSize: 400.5 KiB