Package: TOP Version: 1.9.0 Command: /home/biocbuild/bbs-3.22-bioc/R/bin/R CMD INSTALL TOP StartedAt: 2025-10-20 15:27:38 -0400 (Mon, 20 Oct 2025) EndedAt: 2025-10-20 15:28:12 -0400 (Mon, 20 Oct 2025) EllapsedTime: 34.3 seconds RetCode: 0 Status: OK