Package: TOP Version: 1.9.0 Command: /home/biocbuild/bbs-3.22-bioc/R/bin/R CMD check --install=check:TOP.install-out.txt --library=/home/biocbuild/bbs-3.22-bioc/R/site-library --timings TOP_1.9.0.tar.gz StartedAt: 2025-10-21 05:39:49 -0400 (Tue, 21 Oct 2025) EndedAt: 2025-10-21 05:44:10 -0400 (Tue, 21 Oct 2025) EllapsedTime: 261.2 seconds RetCode: 0 Status: OK CheckDir: TOP.Rcheck Warnings: 0