Package: TOP Version: 1.9.0 Command: /Library/Frameworks/R.framework/Resources/bin/R CMD build --keep-empty-dirs --no-resave-data TOP StartedAt: 2025-10-23 18:59:55 -0400 (Thu, 23 Oct 2025) EndedAt: 2025-10-23 19:01:29 -0400 (Thu, 23 Oct 2025) EllapsedTime: 93.7 seconds RetCode: 0 Status: OK PackageFile: TOP_1.9.0.tar.gz PackageFileSize: 485.7 KiB