Package: TOP Version: 1.9.0 Command: rm -rf TOP.buildbin-libdir && mkdir TOP.buildbin-libdir && /Users/biocbuild/BBS/utils/build-universal.sh TOP_1.9.0.tar.gz /Library/Frameworks/R.framework/Resources/bin/R TOP.buildbin-libdir StartedAt: 2025-10-24 02:03:00 -0400 (Fri, 24 Oct 2025) EndedAt: 2025-10-24 02:03:49 -0400 (Fri, 24 Oct 2025) EllapsedTime: 48.7 seconds RetCode: 0 Status: OK PackageFile: TOP_1.9.0.tgz PackageFileSize: 540.4 KiB