Package: TOP Version: 1.9.0 Command: /Library/Frameworks/R.framework/Resources/bin/R CMD build --keep-empty-dirs --no-resave-data TOP StartedAt: 2025-10-20 17:57:59 -0400 (Mon, 20 Oct 2025) EndedAt: 2025-10-20 17:58:33 -0400 (Mon, 20 Oct 2025) EllapsedTime: 34.4 seconds RetCode: 0 Status: OK PackageFile: TOP_1.9.0.tar.gz PackageFileSize: 486.6 KiB