Package: TOP Version: 1.9.0 Maintainer: Harry Robertson MaintainerEmail: harry.robertson at sydney.edu.au git_url: https://git.bioconductor.org/packages/TOP git_branch: devel git_last_commit: 237976c git_last_commit_date: 2025-04-15 13:15:21 -0400 (Tue, 15 Apr 2025)