Package: TOAST Version: 1.24.0 Command: /home/biocbuild/R/R/bin/R CMD check --install=check:TOAST.install-out.txt --library=/home/biocbuild/R/R/site-library --no-vignettes --timings TOAST_1.24.0.tar.gz StartedAt: 2025-11-14 15:53:57 -0000 (Fri, 14 Nov 2025) EndedAt: 2025-11-14 16:02:18 -0000 (Fri, 14 Nov 2025) EllapsedTime: 500.4 seconds RetCode: 0 Status: OK CheckDir: TOAST.Rcheck Warnings: 0