Package: TOAST Version: 1.24.0 Command: /home/biocbuild/R/R/bin/R CMD build --keep-empty-dirs --no-resave-data TOAST StartedAt: 2025-11-14 06:01:47 -0000 (Fri, 14 Nov 2025) EndedAt: 2025-11-14 06:05:15 -0000 (Fri, 14 Nov 2025) EllapsedTime: 208.2 seconds RetCode: 0 Status: OK PackageFile: TOAST_1.24.0.tar.gz PackageFileSize: 3.365 MiB