Package: TOAST Version: 1.23.0 Command: /Library/Frameworks/R.framework/Resources/bin/R CMD INSTALL TOAST StartedAt: 2025-10-16 15:23:57 -0400 (Thu, 16 Oct 2025) EndedAt: 2025-10-16 15:24:08 -0400 (Thu, 16 Oct 2025) EllapsedTime: 10.8 seconds RetCode: 0 Status: OK