Package: TOAST Version: 1.23.0 Command: rm -rf TOAST.buildbin-libdir && mkdir TOAST.buildbin-libdir && /Users/biocbuild/BBS/utils/build-universal.sh TOAST_1.23.0.tar.gz /Library/Frameworks/R.framework/Resources/bin/R TOAST.buildbin-libdir StartedAt: 2025-10-16 23:20:49 -0400 (Thu, 16 Oct 2025) EndedAt: 2025-10-16 23:21:00 -0400 (Thu, 16 Oct 2025) EllapsedTime: 11.4 seconds RetCode: 0 Status: OK PackageFile: TOAST_1.23.0.tgz PackageFileSize: 3.767 MiB