Package: TMixClust Version: 1.31.0 Command: /home/biocbuild/R/R/bin/R CMD check --install=check:TMixClust.install-out.txt --library=/home/biocbuild/R/R/site-library --no-vignettes --timings TMixClust_1.31.0.tar.gz StartedAt: 2025-10-17 14:32:34 -0000 (Fri, 17 Oct 2025) EndedAt: 2025-10-17 14:33:57 -0000 (Fri, 17 Oct 2025) EllapsedTime: 82.1 seconds RetCode: 0 Status: OK CheckDir: TMixClust.Rcheck Warnings: 0