Package: TMixClust Version: 1.31.0 Command: rm -rf TMixClust.buildbin-libdir && mkdir TMixClust.buildbin-libdir && F:\biocbuild\bbs-3.22-bioc\R\bin\R.exe CMD INSTALL --build --library=TMixClust.buildbin-libdir TMixClust_1.31.0.tar.gz StartedAt: 2025-08-15 11:30:33 -0400 (Fri, 15 Aug 2025) EndedAt: 2025-08-15 11:30:50 -0400 (Fri, 15 Aug 2025) EllapsedTime: 17.5 seconds RetCode: 0 Status: OK PackageFile: TMixClust_1.31.0.zip PackageFileSize: 746.7 KiB