Package: TMixClust Version: 1.31.0 Command: /Library/Frameworks/R.framework/Resources/bin/R CMD INSTALL TMixClust StartedAt: 2025-10-23 15:07:52 -0400 (Thu, 23 Oct 2025) EndedAt: 2025-10-23 15:07:56 -0400 (Thu, 23 Oct 2025) EllapsedTime: 3.7 seconds RetCode: 0 Status: OK