Package: TMixClust Version: 1.31.0 Command: /Library/Frameworks/R.framework/Resources/bin/R CMD build --keep-empty-dirs --no-resave-data TMixClust StartedAt: 2025-10-23 18:03:42 -0400 (Thu, 23 Oct 2025) EndedAt: 2025-10-23 18:03:57 -0400 (Thu, 23 Oct 2025) EllapsedTime: 15.2 seconds RetCode: 0 Status: OK PackageFile: TMixClust_1.31.0.tar.gz PackageFileSize: 508.8 KiB