Package: TMSig Version: 1.3.0 Command: /home/biocbuild/R/R/bin/R CMD INSTALL TMSig StartedAt: 2025-10-20 20:44:03 -0000 (Mon, 20 Oct 2025) EndedAt: 2025-10-20 20:44:32 -0000 (Mon, 20 Oct 2025) EllapsedTime: 28.9 seconds RetCode: 0 Status: OK