Package: TMSig Version: 1.3.0 Command: rm -rf TMSig.buildbin-libdir && mkdir TMSig.buildbin-libdir && F:\biocbuild\bbs-3.22-bioc\R\bin\R.exe CMD INSTALL --build --library=TMSig.buildbin-libdir TMSig_1.3.0.tar.gz StartedAt: 2025-08-15 11:30:45 -0400 (Fri, 15 Aug 2025) EndedAt: 2025-08-15 11:31:12 -0400 (Fri, 15 Aug 2025) EllapsedTime: 26.1 seconds RetCode: 0 Status: OK PackageFile: TMSig_1.3.0.zip PackageFileSize: 2.63 MiB