Package: TMSig Version: 1.3.0 Command: /home/biocbuild/bbs-3.22-bioc/R/bin/R CMD INSTALL TMSig StartedAt: 2025-10-19 15:30:30 -0400 (Sun, 19 Oct 2025) EndedAt: 2025-10-19 15:30:50 -0400 (Sun, 19 Oct 2025) EllapsedTime: 20.0 seconds RetCode: 0 Status: OK