Package: TMSig Version: 1.3.0 Command: /home/biocbuild/bbs-3.22-bioc/R/bin/R CMD build --keep-empty-dirs --no-resave-data --md5 TMSig StartedAt: 2025-10-19 20:30:53 -0400 (Sun, 19 Oct 2025) EndedAt: 2025-10-19 20:31:40 -0400 (Sun, 19 Oct 2025) EllapsedTime: 47.0 seconds RetCode: 0 Status: OK PackageFile: TMSig_1.3.0.tar.gz PackageFileSize: 3.865 MiB