Package: TMSig Version: 1.3.0 Command: /Library/Frameworks/R.framework/Resources/bin/R CMD INSTALL TMSig StartedAt: 2025-10-22 15:09:57 -0400 (Wed, 22 Oct 2025) EndedAt: 2025-10-22 15:10:05 -0400 (Wed, 22 Oct 2025) EllapsedTime: 8.1 seconds RetCode: 0 Status: OK