Package: TMSig Version: 1.3.0 Command: /Library/Frameworks/R.framework/Resources/bin/R CMD check --install=check:TMSig.install-out.txt --library=/Library/Frameworks/R.framework/Resources/library --no-vignettes --timings TMSig_1.3.0.tar.gz StartedAt: 2025-10-22 22:29:32 -0400 (Wed, 22 Oct 2025) EndedAt: 2025-10-22 22:30:31 -0400 (Wed, 22 Oct 2025) EllapsedTime: 58.8 seconds RetCode: 0 Status: OK CheckDir: TMSig.Rcheck Warnings: 0