Package: TMSig Version: 1.3.0 Maintainer: Tyler Sagendorf MaintainerEmail: tyler.sagendorf at pnnl.gov git_url: https://git.bioconductor.org/packages/TMSig git_branch: devel git_last_commit: 10cfe3c git_last_commit_date: 2025-04-15 13:43:39 -0400 (Tue, 15 Apr 2025)