Package: TIN Version: 1.41.0 Command: F:\biocbuild\bbs-3.22-bioc\R\bin\R.exe CMD check --no-multiarch --install=check:TIN.install-out.txt --library=F:\biocbuild\bbs-3.22-bioc\R\library --no-vignettes --timings TIN_1.41.0.tar.gz StartedAt: 2025-08-15 08:50:37 -0400 (Fri, 15 Aug 2025) EndedAt: 2025-08-15 08:54:38 -0400 (Fri, 15 Aug 2025) EllapsedTime: 241.1 seconds RetCode: 0 Status: OK CheckDir: TIN.Rcheck Warnings: 0